BEGIN:VCALENDAR
VERSION:2.0
PRODID:-//empowercdc.org//NONSGML kigkonsult.se iCalcreator 2.30.10//
CALSCALE:GREGORIAN
METHOD:PUBLISH
UID:193a1ceb-7ca8-42e7-aab9-8627e4a3d555
X-WR-CALDESC:SOCIAL\nCP- JEANETTE MORALES\nBINGO PARTY\n@11AM\n\n*Resident 
 only event*
X-WR-RELCALID:c13dd81dd9031a66e84471a12d49fdb3
X-WR-TIMEZONE:America/Chicago
BEGIN:VTIMEZONE
TZID:America/Chicago
BEGIN:STANDARD
TZNAME:CST
DTSTART:20241103T020000
TZOFFSETFROM:-0500
TZOFFSETTO:-0600
RDATE:20251102T020000
END:STANDARD
BEGIN:DAYLIGHT
TZNAME:CDT
DTSTART:20240310T020000
TZOFFSETFROM:-0600
TZOFFSETTO:-0500
RDATE:20250309T020000
RDATE:20260308T020000
END:DAYLIGHT
END:VTIMEZONE
BEGIN:VEVENT
UID:7bc75b5b-8161-46c2-a8ab-bd96a6afc7d0
DTSTAMP:20260423T043225Z
DESCRIPTION:SOCIAL\nCP- JEANETTE MORALES\nBINGO PARTY\n@11AM\n\n*Resident o
 nly event*
DTSTART;TZID=America/Chicago:20250217T110000
DTEND;TZID=America/Chicago:20250217T120000
LOCATION:1717 FM359\, Richmond\, TX 77406 US
SUMMARY:Jones Creek: Bingo Party
END:VEVENT
END:VCALENDAR
