BEGIN:VCALENDAR
VERSION:2.0
PRODID:-//empowercdc.org//NONSGML kigkonsult.se iCalcreator 2.30.10//
CALSCALE:GREGORIAN
METHOD:PUBLISH
UID:768af71a-7d05-4593-a1db-5c5afe9cec3d
X-WR-CALDESC:EXERCISE\nCP- Texas A&M Agriculture\n@11AM
X-WR-RELCALID:c4952fb0c7bf37b4610705c5386aacdf
X-WR-TIMEZONE:America/Chicago
BEGIN:VTIMEZONE
TZID:America/Chicago
BEGIN:STANDARD
TZNAME:CST
DTSTART:20241103T020000
TZOFFSETFROM:-0500
TZOFFSETTO:-0600
RDATE:20251102T020000
END:STANDARD
BEGIN:DAYLIGHT
TZNAME:CDT
DTSTART:20240310T020000
TZOFFSETFROM:-0600
TZOFFSETTO:-0500
RDATE:20250309T020000
RDATE:20260308T020000
END:DAYLIGHT
END:VTIMEZONE
BEGIN:VEVENT
UID:aac8c592-1b44-440c-b16f-196924a67607
DTSTAMP:20260423T042339Z
DESCRIPTION:EXERCISE\nCP- Texas A&M Agriculture\n@11AM
DTSTART;TZID=America/Chicago:20250214T110000
DTEND;TZID=America/Chicago:20250214T120000
LOCATION:15707 Kuykendahl Ct\, Conroe\, TX 77384 US
SUMMARY:Kuykendalh Court: Exercise
END:VEVENT
END:VCALENDAR
