BEGIN:VCALENDAR
VERSION:2.0
PRODID:-//empowercdc.org//NONSGML kigkonsult.se iCalcreator 2.30.10//
CALSCALE:GREGORIAN
METHOD:PUBLISH
UID:8619e929-bb34-4bd0-9369-e3027d6b7b4c
X-WR-CALDESC:ARTS & CRAFTS-\nDoTerra\n\nHand Rollers\n@10:00 AM\n\nSOCIAL-
 \nEmpower/TexasAgriLife\n\nSweetheart Resident\nBrunch/Gardening 101\n@ 11
 :00AM
X-WR-RELCALID:16dc3c362a094dc5da1979a6546d2b4a
X-WR-TIMEZONE:America/Chicago
BEGIN:VTIMEZONE
TZID:America/Chicago
BEGIN:STANDARD
TZNAME:CST
DTSTART:20241103T020000
TZOFFSETFROM:-0500
TZOFFSETTO:-0600
RDATE:20251102T020000
END:STANDARD
BEGIN:DAYLIGHT
TZNAME:CDT
DTSTART:20240310T020000
TZOFFSETFROM:-0600
TZOFFSETTO:-0500
RDATE:20250309T020000
RDATE:20260308T020000
END:DAYLIGHT
END:VTIMEZONE
BEGIN:VEVENT
UID:f5950126-963f-4522-80a8-20f4ef1800ca
DTSTAMP:20260423T042512Z
DESCRIPTION:ARTS & CRAFTS-\nDoTerra\n\nHand Rollers\n@10:00 AM\n\nSOCIAL-\n
 Empower/TexasAgriLife\n\nSweetheart Resident\nBrunch/Gardening 101\n@ 11:0
 0AM
DTSTART;TZID=America/Chicago:20250214T100000
DTEND;TZID=America/Chicago:20250214T120000
LOCATION:1830 Hollyoak Dr\, Houston\, TX 77084 US
SUMMARY:Hollyoak: Arts & Crafts\, Social
END:VEVENT
END:VCALENDAR
