BEGIN:VCALENDAR
VERSION:2.0
PRODID:-//empowercdc.org//NONSGML kigkonsult.se iCalcreator 2.30.10//
CALSCALE:GREGORIAN
METHOD:PUBLISH
UID:8df2c753-7fcd-4617-9aa5-47311f985ded
X-WR-CALDESC:SOCIAL- Empower\nHearts of Love\nBirthday Social\n@1:00PM\n\nA
 NNUAL HEALTH FAIR-\nEmpower\n\nHealth Fair\n@2:00 PM
X-WR-RELCALID:fd8bb59e48e29999bf6c89499d34d9d8
X-WR-TIMEZONE:America/Chicago
BEGIN:VTIMEZONE
TZID:America/Chicago
BEGIN:STANDARD
TZNAME:CST
DTSTART:20241103T020000
TZOFFSETFROM:-0500
TZOFFSETTO:-0600
RDATE:20251102T020000
END:STANDARD
BEGIN:DAYLIGHT
TZNAME:CDT
DTSTART:20240310T020000
TZOFFSETFROM:-0600
TZOFFSETTO:-0500
RDATE:20250309T020000
RDATE:20260308T020000
END:DAYLIGHT
END:VTIMEZONE
BEGIN:VEVENT
UID:0f3df89c-7820-4a85-9dfe-2211875cd31a
DTSTAMP:20260423T043540Z
DESCRIPTION:SOCIAL- Empower\nHearts of Love\nBirthday Social\n@1:00PM\n\nAN
 NUAL HEALTH FAIR-\nEmpower\n\nHealth Fair\n@2:00 PM
DTSTART;TZID=America/Chicago:20250213T130000
DTEND;TZID=America/Chicago:20250213T150000
LOCATION:325 Flagship Boulevard\, Montgomery\, TX 77316 US
SUMMARY:The Heritage: Birthday Social\, Annual Health Fair
END:VEVENT
END:VCALENDAR
