BEGIN:VCALENDAR
VERSION:2.0
PRODID:-//empowercdc.org//NONSGML kigkonsult.se iCalcreator 2.30.10//
CALSCALE:GREGORIAN
METHOD:PUBLISH
UID:91c6ae11-583a-41be-a0dd-937fb18d1988
X-WR-CALDESC:ANNUAL HEALTH FAIR-\nEmpower\n\nHealth Fair\n11:00AM
X-WR-RELCALID:adf6a6d0b824c56b778bb958a2a5d3b3
X-WR-TIMEZONE:America/Chicago
BEGIN:VTIMEZONE
TZID:America/Chicago
BEGIN:STANDARD
TZNAME:CST
DTSTART:20241103T020000
TZOFFSETFROM:-0500
TZOFFSETTO:-0600
RDATE:20251102T020000
END:STANDARD
BEGIN:DAYLIGHT
TZNAME:CDT
DTSTART:20240310T020000
TZOFFSETFROM:-0600
TZOFFSETTO:-0500
RDATE:20250309T020000
RDATE:20260308T020000
END:DAYLIGHT
END:VTIMEZONE
BEGIN:VEVENT
UID:96da1984-0991-47b8-9547-d413d2971c87
DTSTAMP:20260423T044900Z
DESCRIPTION:ANNUAL HEALTH FAIR-\nEmpower\n\nHealth Fair\n11:00AM
DTSTART;TZID=America/Chicago:20250213T110000
DTEND;TZID=America/Chicago:20250213T123000
LOCATION:219 Flagship Blvd\, Montgomery\, TX 77316 US
SUMMARY:The Heritage 55+ Annual Health Fair
END:VEVENT
END:VCALENDAR
