BEGIN:VCALENDAR
VERSION:2.0
PRODID:-//empowercdc.org//NONSGML kigkonsult.se iCalcreator 2.30.10//
CALSCALE:GREGORIAN
METHOD:PUBLISH
UID:c22867ea-e02f-4527-87b0-6676e2435393
X-WR-CALDESC:EXERCISE\nLINE DANCE\n@11AM\n\nARTS & CRAFTS\nBedazzle Hair Cl
 ips/TX\nSMP\n@11AM\n\n*Resident only event*
X-WR-RELCALID:d67cb225966ef8056514a4f05b72c04a
X-WR-TIMEZONE:America/Chicago
BEGIN:VTIMEZONE
TZID:America/Chicago
BEGIN:STANDARD
TZNAME:CST
DTSTART:20241103T020000
TZOFFSETFROM:-0500
TZOFFSETTO:-0600
RDATE:20251102T020000
END:STANDARD
BEGIN:DAYLIGHT
TZNAME:CDT
DTSTART:20240310T020000
TZOFFSETFROM:-0600
TZOFFSETTO:-0500
RDATE:20250309T020000
RDATE:20260308T020000
END:DAYLIGHT
END:VTIMEZONE
BEGIN:VEVENT
UID:19b135c7-ad51-4827-9447-8acd28ceddc4
DTSTAMP:20260423T042308Z
DESCRIPTION:EXERCISE\nLINE DANCE\n@11AM\n\nARTS & CRAFTS\nBedazzle Hair Cli
 ps/TX\nSMP\n@11AM\n\n*Resident only event*
DTSTART;TZID=America/Chicago:20250213T100000
DTEND;TZID=America/Chicago:20250213T120000
LOCATION:1717 FM359\, Richmond\, TX 77406 US
SUMMARY:Jones Creek: Exercise\, Arts & Crafts
END:VEVENT
END:VCALENDAR
