BEGIN:VCALENDAR
VERSION:2.0
PRODID:-//empowercdc.org//NONSGML kigkonsult.se iCalcreator 2.30.10//
CALSCALE:GREGORIAN
METHOD:PUBLISH
UID:6860401e-3a6c-43a1-ac75-e1df0c6fd1a8
X-WR-CALDESC:SOCIAL - Empower\nValentines Day Social\n@ 3:00 PM\n\n*Residen
 t only event*
X-WR-RELCALID:24056b6506c961d332f4025a8237093e
X-WR-TIMEZONE:America/Chicago
BEGIN:VTIMEZONE
TZID:America/Chicago
BEGIN:STANDARD
TZNAME:CST
DTSTART:20241103T020000
TZOFFSETFROM:-0500
TZOFFSETTO:-0600
RDATE:20251102T020000
END:STANDARD
BEGIN:DAYLIGHT
TZNAME:CDT
DTSTART:20240310T020000
TZOFFSETFROM:-0600
TZOFFSETTO:-0500
RDATE:20250309T020000
RDATE:20260308T020000
END:DAYLIGHT
END:VTIMEZONE
BEGIN:VEVENT
UID:406dcbb2-d72b-4a30-b367-9c459705bb58
DTSTAMP:20260423T043422Z
DESCRIPTION:SOCIAL - Empower\nValentines Day Social\n@ 3:00 PM\n\n*Resident
  only event*
DTSTART;TZID=America/Chicago:20250213T150000
DTEND;TZID=America/Chicago:20250213T160000
LOCATION:6725 Brittmoore Road\, Houston\, TX 77041 US
SUMMARY:Brittmoore: Valentines Day Social
END:VEVENT
END:VCALENDAR
