BEGIN:VCALENDAR
VERSION:2.0
PRODID:-//empowercdc.org//NONSGML kigkonsult.se iCalcreator 2.30.10//
CALSCALE:GREGORIAN
METHOD:PUBLISH
UID:ab0c6c36-abe7-4c9c-aa19-9eb48048bb3a
X-WR-CALDESC:AARP-Protecting\nYour Personal\nInformation Online\n@ 10:00AM
X-WR-RELCALID:64902021a1f2e916d0096e19df720e2e
X-WR-TIMEZONE:America/Chicago
BEGIN:VTIMEZONE
TZID:America/Chicago
BEGIN:STANDARD
TZNAME:CST
DTSTART:20241103T020000
TZOFFSETFROM:-0500
TZOFFSETTO:-0600
RDATE:20251102T020000
END:STANDARD
BEGIN:DAYLIGHT
TZNAME:CDT
DTSTART:20240310T020000
TZOFFSETFROM:-0600
TZOFFSETTO:-0500
RDATE:20250309T020000
RDATE:20260308T020000
END:DAYLIGHT
END:VTIMEZONE
BEGIN:VEVENT
UID:8d12a777-8b3a-4b3a-828e-81e4261ab9b8
DTSTAMP:20260423T042046Z
DESCRIPTION:AARP-Protecting\nYour Personal\nInformation Online\n@ 10:00AM
DTSTART;TZID=America/Chicago:20250211T100000
DTEND;TZID=America/Chicago:20250211T110000
LOCATION:1830 Hollyoak Dr\, Houston\, TX 77084 US
SUMMARY:Hollyoak: AARP
END:VEVENT
END:VCALENDAR
