BEGIN:VCALENDAR
VERSION:2.0
PRODID:-//empowercdc.org//NONSGML kigkonsult.se iCalcreator 2.30.10//
CALSCALE:GREGORIAN
METHOD:PUBLISH
UID:f0c7efdd-e151-4399-b228-fccb982179d0
X-WR-CALDESC:FINANCIAL PLANNING\nEmpower\nBudgeting Goals\n@ 3:00 PM\n\n*Re
 sident only event*
X-WR-RELCALID:ee0c6e87313fa00064be327366ea59f7
X-WR-TIMEZONE:America/Chicago
BEGIN:VTIMEZONE
TZID:America/Chicago
BEGIN:STANDARD
TZNAME:CST
DTSTART:20241103T020000
TZOFFSETFROM:-0500
TZOFFSETTO:-0600
RDATE:20251102T020000
END:STANDARD
BEGIN:DAYLIGHT
TZNAME:CDT
DTSTART:20240310T020000
TZOFFSETFROM:-0600
TZOFFSETTO:-0500
RDATE:20250309T020000
RDATE:20260308T020000
END:DAYLIGHT
END:VTIMEZONE
BEGIN:VEVENT
UID:45483443-a979-4430-b8e0-69a0abf4b18f
DTSTAMP:20260423T042124Z
DESCRIPTION:FINANCIAL PLANNING\nEmpower\nBudgeting Goals\n@ 3:00 PM\n\n*Res
 ident only event*
DTSTART;TZID=America/Chicago:20250211T150000
DTEND;TZID=America/Chicago:20250211T160000
LOCATION:6725 Brittmoore Road\, Houston\, TX 77041 US
SUMMARY:Brittmoore: Financial Planning
END:VEVENT
END:VCALENDAR
