BEGIN:VCALENDAR
VERSION:2.0
PRODID:-//empowercdc.org//NONSGML kigkonsult.se iCalcreator 2.30.10//
CALSCALE:GREGORIAN
METHOD:PUBLISH
UID:c6a39c48-ee69-4eb2-90b2-1cda50cec3f4
X-WR-CALDESC:ARTS & CRAFTS\nDIY Edible Play Doh\n@3PM\n\n*Resident only eve
 nt*
X-WR-RELCALID:efb95d79d5aee6040507248d85a7fed4
X-WR-TIMEZONE:America/Chicago
BEGIN:VTIMEZONE
TZID:America/Chicago
BEGIN:STANDARD
TZNAME:CST
DTSTART:20241103T020000
TZOFFSETFROM:-0500
TZOFFSETTO:-0600
RDATE:20251102T020000
END:STANDARD
BEGIN:DAYLIGHT
TZNAME:CDT
DTSTART:20240310T020000
TZOFFSETFROM:-0600
TZOFFSETTO:-0500
RDATE:20250309T020000
RDATE:20260308T020000
END:DAYLIGHT
END:VTIMEZONE
BEGIN:VEVENT
UID:252208f8-8ef7-4ba3-8afb-bf7387e5cccc
DTSTAMP:20260423T045120Z
DESCRIPTION:ARTS & CRAFTS\nDIY Edible Play Doh\n@3PM\n\n*Resident only even
 t*
DTSTART;TZID=America/Chicago:20250210T150000
DTEND;TZID=America/Chicago:20250210T160000
LOCATION:1620 Spencer Hwy\, South Houston\, TX 77587 US
SUMMARY:Windsor Gardens: Arts & Crafts
END:VEVENT
END:VCALENDAR
