BEGIN:VCALENDAR
VERSION:2.0
PRODID:-//empowercdc.org//NONSGML kigkonsult.se iCalcreator 2.30.10//
CALSCALE:GREGORIAN
METHOD:PUBLISH
UID:944832c8-b902-4d15-bf10-9b4ac360e8c6
X-WR-CALDESC:EXERCISE\nLINE DANCE\n@10AM\n\nAARP\nINTRO TO MANAGING YOUR\nP
 RIVACY ONLINE\n@11AM\n\nAARP\nPROTECTING YOUR\nPERSONAL INFORMATION\nONLIN
 E\n@11AM\n\n*Resident only event*
X-WR-RELCALID:e4af209cdf2de8740b9047f8696a1722
X-WR-TIMEZONE:America/Chicago
BEGIN:VTIMEZONE
TZID:America/Chicago
BEGIN:STANDARD
TZNAME:CST
DTSTART:20241103T020000
TZOFFSETFROM:-0500
TZOFFSETTO:-0600
RDATE:20251102T020000
END:STANDARD
BEGIN:DAYLIGHT
TZNAME:CDT
DTSTART:20240310T020000
TZOFFSETFROM:-0600
TZOFFSETTO:-0500
RDATE:20250309T020000
RDATE:20260308T020000
END:DAYLIGHT
END:VTIMEZONE
BEGIN:VEVENT
UID:06d43e26-8a0c-4d9b-9332-d84bc87cad01
DTSTAMP:20260423T042210Z
DESCRIPTION:EXERCISE\nLINE DANCE\n@10AM\n\nAARP\nINTRO TO MANAGING YOUR\nPR
 IVACY ONLINE\n@11AM\n\nAARP\nPROTECTING YOUR\nPERSONAL INFORMATION\nONLINE
 \n@11AM\n\n*Resident only event*
DTSTART;TZID=America/Chicago:20250210T100000
DTEND;TZID=America/Chicago:20250210T120000
LOCATION:1717 FM359\, Richmond\, TX 77406 US
SUMMARY:Jones Creek: Exercise\, AARP
END:VEVENT
END:VCALENDAR
