BEGIN:VCALENDAR
VERSION:2.0
PRODID:-//empowercdc.org//NONSGML kigkonsult.se iCalcreator 2.30.10//
CALSCALE:GREGORIAN
METHOD:PUBLISH
UID:86717c55-9f2c-48d7-b573-3d8c04e72e9b
X-WR-CALDESC:ARTS & CRAFTS\nEmpower\nBracelets\n@ 3:00 PM\n\n*Resident only
  event*
X-WR-RELCALID:af5bccbf43b7969056b7891dd35d0f91
X-WR-TIMEZONE:America/Chicago
BEGIN:VTIMEZONE
TZID:America/Chicago
BEGIN:STANDARD
TZNAME:CST
DTSTART:20241103T020000
TZOFFSETFROM:-0500
TZOFFSETTO:-0600
RDATE:20251102T020000
END:STANDARD
BEGIN:DAYLIGHT
TZNAME:CDT
DTSTART:20240310T020000
TZOFFSETFROM:-0600
TZOFFSETTO:-0500
RDATE:20250309T020000
RDATE:20260308T020000
END:DAYLIGHT
END:VTIMEZONE
BEGIN:VEVENT
UID:64624dac-f682-41c6-a942-3e40414220d7
DTSTAMP:20260423T042223Z
DESCRIPTION:ARTS & CRAFTS\nEmpower\nBracelets\n@ 3:00 PM\n\n*Resident only 
 event*
DTSTART;TZID=America/Chicago:20250207T150000
DTEND;TZID=America/Chicago:20250207T160000
LOCATION:12353 Huffmeister Rd\, Cypress\, TX 77429 US
SUMMARY:The Meadows: Arts & Crafts
END:VEVENT
END:VCALENDAR
