BEGIN:VCALENDAR
VERSION:2.0
PRODID:-//empowercdc.org//NONSGML kigkonsult.se iCalcreator 2.30.10//
CALSCALE:GREGORIAN
METHOD:PUBLISH
UID:d1cb927e-a630-48bd-9dda-a23461839f56
X-WR-CALDESC:EXERCISE\nCP- Texas A&M Agriculture\n@11AM\n\nAARP\nINTRO TO M
 ANAGING\nYOUR PRIVACY\n@12PM
X-WR-RELCALID:c0a84bbc3d6744c6804a7f898a4bd162
X-WR-TIMEZONE:America/Chicago
BEGIN:VTIMEZONE
TZID:America/Chicago
BEGIN:STANDARD
TZNAME:CST
DTSTART:20241103T020000
TZOFFSETFROM:-0500
TZOFFSETTO:-0600
RDATE:20251102T020000
END:STANDARD
BEGIN:DAYLIGHT
TZNAME:CDT
DTSTART:20240310T020000
TZOFFSETFROM:-0600
TZOFFSETTO:-0500
RDATE:20250309T020000
RDATE:20260308T020000
END:DAYLIGHT
END:VTIMEZONE
BEGIN:VEVENT
UID:6a248596-d87f-45a4-8b37-e088e5a4277e
DTSTAMP:20260423T042425Z
DESCRIPTION:EXERCISE\nCP- Texas A&M Agriculture\n@11AM\n\nAARP\nINTRO TO MA
 NAGING\nYOUR PRIVACY\n@12PM
DTSTART;TZID=America/Chicago:20250207T110000
DTEND;TZID=America/Chicago:20250207T130000
LOCATION:15707 Kuykendahl Ct\, Conroe\, TX 77384 US
SUMMARY:Kuykendalh Court: Exercise\, AARP
END:VEVENT
END:VCALENDAR
