BEGIN:VCALENDAR
VERSION:2.0
PRODID:-//empowercdc.org//NONSGML kigkonsult.se iCalcreator 2.30.10//
CALSCALE:GREGORIAN
METHOD:PUBLISH
UID:e5d9258d-7dd3-4b02-81bb-c9c3d72ebce7
X-WR-CALDESC:FOOD PANTRY\nTX SMP\n@4:00PM\n\n*Resident only event*
X-WR-RELCALID:eda377015a2d86a163b6871892b096d4
X-WR-TIMEZONE:America/Chicago
BEGIN:VTIMEZONE
TZID:America/Chicago
BEGIN:STANDARD
TZNAME:CST
DTSTART:20241103T020000
TZOFFSETFROM:-0500
TZOFFSETTO:-0600
RDATE:20251102T020000
END:STANDARD
BEGIN:DAYLIGHT
TZNAME:CDT
DTSTART:20240310T020000
TZOFFSETFROM:-0600
TZOFFSETTO:-0500
RDATE:20250309T020000
RDATE:20260308T020000
END:DAYLIGHT
END:VTIMEZONE
BEGIN:VEVENT
UID:a5bf1263-af79-4d80-8eaf-d6eb6e7b34ec
DTSTAMP:20260423T042410Z
DESCRIPTION:FOOD PANTRY\nTX SMP\n@4:00PM\n\n*Resident only event*
DTSTART;TZID=America/Chicago:20250206T160000
DTEND;TZID=America/Chicago:20250206T170000
LOCATION:1620 Spencer Hwy\, South Houston\, TX 77587 US
SUMMARY:Windsor Gardens: Food Pantry
END:VEVENT
END:VCALENDAR
