BEGIN:VCALENDAR
VERSION:2.0
PRODID:-//empowercdc.org//NONSGML kigkonsult.se iCalcreator 2.30.10//
CALSCALE:GREGORIAN
METHOD:PUBLISH
UID:8b68e5ca-e751-4459-adc9-e15b1960437c
X-WR-CALDESC:SOCIAL-Texans\nBenefit\nBirthday Social\n@ 11:30AM\n\nEXERCISE
 - BONA\nSuper Senior Fitness\n@1:00PM
X-WR-RELCALID:54cfe6eeba3c4f49fbcad62c64523bbb
X-WR-TIMEZONE:America/Chicago
BEGIN:VTIMEZONE
TZID:America/Chicago
BEGIN:STANDARD
TZNAME:CST
DTSTART:20241103T020000
TZOFFSETFROM:-0500
TZOFFSETTO:-0600
RDATE:20251102T020000
END:STANDARD
BEGIN:DAYLIGHT
TZNAME:CDT
DTSTART:20240310T020000
TZOFFSETFROM:-0600
TZOFFSETTO:-0500
RDATE:20250309T020000
RDATE:20260308T020000
END:DAYLIGHT
END:VTIMEZONE
BEGIN:VEVENT
UID:32452e1f-3fbd-41ce-952b-ec9bdda63aa0
DTSTAMP:20260423T042107Z
DESCRIPTION:SOCIAL-Texans\nBenefit\nBirthday Social\n@ 11:30AM\n\nEXERCISE-
  BONA\nSuper Senior Fitness\n@1:00PM
DTSTART;TZID=America/Chicago:20250206T113000
DTEND;TZID=America/Chicago:20250206T140000
LOCATION:1830 Hollyoak Dr\, Houston\, TX 77084 US
SUMMARY:Hollyoak: Texans Benefit\, Exercise
END:VEVENT
END:VCALENDAR
