BEGIN:VCALENDAR
VERSION:2.0
PRODID:-//empowercdc.org//NONSGML kigkonsult.se iCalcreator 2.30.10//
CALSCALE:GREGORIAN
METHOD:PUBLISH
UID:8f27774b-796a-4768-bb01-bf6237f1fb03
X-WR-CALDESC:EXERCISE- Club 22\nFitness Workout\n@10:00AM\n\nTxSMP-\nScam o
 f the Month\n@ 10:30AM
X-WR-RELCALID:228cb0785ccbd25cec6097dc8aa0f8fb
X-WR-TIMEZONE:America/Chicago
BEGIN:VTIMEZONE
TZID:America/Chicago
BEGIN:STANDARD
TZNAME:CST
DTSTART:20241103T020000
TZOFFSETFROM:-0500
TZOFFSETTO:-0600
RDATE:20251102T020000
END:STANDARD
BEGIN:DAYLIGHT
TZNAME:CDT
DTSTART:20240310T020000
TZOFFSETFROM:-0600
TZOFFSETTO:-0500
RDATE:20250309T020000
RDATE:20260308T020000
END:DAYLIGHT
END:VTIMEZONE
BEGIN:VEVENT
UID:49b30c66-ebd2-4c87-822e-2e038c3365a7
DTSTAMP:20260423T042955Z
DESCRIPTION:EXERCISE- Club 22\nFitness Workout\n@10:00AM\n\nTxSMP-\nScam of
  the Month\n@ 10:30AM
DTSTART;TZID=America/Chicago:20250204T100000
DTEND;TZID=America/Chicago:20250204T120000
LOCATION:1830 Hollyoak Dr\, Houston\, TX 77084 US
SUMMARY:Hollyoak: Exercise (Club 22) / TxSMP
END:VEVENT
END:VCALENDAR
