BEGIN:VCALENDAR
VERSION:2.0
PRODID:-//empowercdc.org//NONSGML kigkonsult.se iCalcreator 2.30.10//
CALSCALE:GREGORIAN
METHOD:PUBLISH
UID:c0a16468-b9f8-4707-a8b6-a8f993f060a0
X-WR-CALDESC:CHARACTER BUILDING- Empower\nDraw and Tell\n@ 3:00 PM\n\n*Resi
 dent only event*
X-WR-RELCALID:ea22ed131dd0c363b61e2b1e6207a670
X-WR-TIMEZONE:America/Chicago
BEGIN:VTIMEZONE
TZID:America/Chicago
BEGIN:STANDARD
TZNAME:CST
DTSTART:20241103T020000
TZOFFSETFROM:-0500
TZOFFSETTO:-0600
RDATE:20251102T020000
END:STANDARD
BEGIN:DAYLIGHT
TZNAME:CDT
DTSTART:20240310T020000
TZOFFSETFROM:-0600
TZOFFSETTO:-0500
RDATE:20250309T020000
RDATE:20260308T020000
END:DAYLIGHT
END:VTIMEZONE
BEGIN:VEVENT
UID:35f1f956-87ad-43c9-aae6-0105e99130f2
DTSTAMP:20260423T042108Z
DESCRIPTION:CHARACTER BUILDING- Empower\nDraw and Tell\n@ 3:00 PM\n\n*Resid
 ent only event*
DTSTART;TZID=America/Chicago:20250204T150000
DTEND;TZID=America/Chicago:20250204T160000
LOCATION:6725 Brittmoore Road\, Houston\, TX 77041 US
SUMMARY:Brittmoore: Character Building
END:VEVENT
END:VCALENDAR
