BEGIN:VCALENDAR
VERSION:2.0
PRODID:-//empowercdc.org//NONSGML kigkonsult.se iCalcreator 2.30.10//
CALSCALE:GREGORIAN
METHOD:PUBLISH
UID:4a025489-72e8-4995-a9cf-b063cdd8f4d9
X-WR-CALDESC:SOCIAL\nAQUARIUS/PISCES\nBIRTHDAY\n@3PM\n\nEXERCISE\nLINE DANC
 E\n@4PM\n\n*Resident only event*
X-WR-RELCALID:c95c4dbf95a4e239d44f5b6a820f626b
X-WR-TIMEZONE:America/Chicago
BEGIN:VTIMEZONE
TZID:America/Chicago
BEGIN:STANDARD
TZNAME:CST
DTSTART:20241103T020000
TZOFFSETFROM:-0500
TZOFFSETTO:-0600
RDATE:20251102T020000
END:STANDARD
BEGIN:DAYLIGHT
TZNAME:CDT
DTSTART:20240310T020000
TZOFFSETFROM:-0600
TZOFFSETTO:-0500
RDATE:20250309T020000
RDATE:20260308T020000
END:DAYLIGHT
END:VTIMEZONE
BEGIN:VEVENT
UID:8e3a362d-6ece-4f32-8874-f6a1e7d453f5
DTSTAMP:20260423T042339Z
DESCRIPTION:SOCIAL\nAQUARIUS/PISCES\nBIRTHDAY\n@3PM\n\nEXERCISE\nLINE DANCE
 \n@4PM\n\n*Resident only event*
DTSTART;TZID=America/Chicago:20250203T150000
DTEND;TZID=America/Chicago:20250203T170000
LOCATION:1620 Spencer Hwy\, South Houston\, TX 77587 US
SUMMARY:Windsor Gardens: Birthday Social\, Exercise
END:VEVENT
END:VCALENDAR
