BEGIN:VCALENDAR
VERSION:2.0
PRODID:-//empowercdc.org//NONSGML kigkonsult.se iCalcreator 2.30.10//
CALSCALE:GREGORIAN
METHOD:PUBLISH
UID:62c68a25-d15f-46fe-9c4e-a181da776d8b
X-WR-CALDESC:CHARACTER\nBULDING-Empower\nAffection\n@ 1:00PM\n\nARTS & CRAF
 TS-\nEmpower\n\nEssential Oil\n“Love Potion”\n@ 2:00PM
X-WR-RELCALID:3c4a3d4bfd4676e3b210032ee1b0755a
X-WR-TIMEZONE:America/Chicago
BEGIN:VTIMEZONE
TZID:America/Chicago
BEGIN:STANDARD
TZNAME:CST
DTSTART:20241103T020000
TZOFFSETFROM:-0500
TZOFFSETTO:-0600
RDATE:20251102T020000
END:STANDARD
BEGIN:DAYLIGHT
TZNAME:CDT
DTSTART:20240310T020000
TZOFFSETFROM:-0600
TZOFFSETTO:-0500
RDATE:20250309T020000
RDATE:20260308T020000
END:DAYLIGHT
END:VTIMEZONE
BEGIN:VEVENT
UID:96946182-5426-4a5b-942c-942012f945c7
DTSTAMP:20260423T043722Z
DESCRIPTION:CHARACTER\nBULDING-Empower\nAffection\n@ 1:00PM\n\nARTS & CRAFT
 S-\nEmpower\n\nEssential Oil\n“Love Potion”\n@ 2:00PM
DTSTART;TZID=America/Chicago:20250203T130000
DTEND;TZID=America/Chicago:20250203T150000
LOCATION:325 Flagship Boulevard\, Montgomery\, TX 77316 US
SUMMARY:The Heritage: Character Building\, Arts & Crafts
END:VEVENT
END:VCALENDAR
