BEGIN:VCALENDAR
VERSION:2.0
PRODID:-//empowercdc.org//NONSGML kigkonsult.se iCalcreator 2.30.10//
CALSCALE:GREGORIAN
METHOD:PUBLISH
UID:1d8b12e3-478c-45ea-927c-b0d3a38c2068
X-WR-CALDESC:SOCIAL\nAQUARIUS/PISCES\nBIRTHDAY\n@10AM\n\nAARP\nPROTECTING Y
 OUR\nPERSONAL INFORMATION\nONLINE\n@11AM\n\n*Resident only event*
X-WR-RELCALID:00aa9240bdd1f51607ff9ab331b06a56
X-WR-TIMEZONE:America/Chicago
BEGIN:VTIMEZONE
TZID:America/Chicago
BEGIN:STANDARD
TZNAME:CST
DTSTART:20241103T020000
TZOFFSETFROM:-0500
TZOFFSETTO:-0600
RDATE:20251102T020000
END:STANDARD
BEGIN:DAYLIGHT
TZNAME:CDT
DTSTART:20240310T020000
TZOFFSETFROM:-0600
TZOFFSETTO:-0500
RDATE:20250309T020000
RDATE:20260308T020000
END:DAYLIGHT
END:VTIMEZONE
BEGIN:VEVENT
UID:2e5fe68c-772f-4885-b91a-e63fcd3ee175
DTSTAMP:20260423T044901Z
DESCRIPTION:SOCIAL\nAQUARIUS/PISCES\nBIRTHDAY\n@10AM\n\nAARP\nPROTECTING YO
 UR\nPERSONAL INFORMATION\nONLINE\n@11AM\n\n*Resident only event*
DTSTART;TZID=America/Chicago:20250203T100000
DTEND;TZID=America/Chicago:20250203T120000
LOCATION:1717 FM359\, Richmond\, TX 77406 US
SUMMARY:Jones Creek: Birthday Social\, AARP
END:VEVENT
END:VCALENDAR
