BEGIN:VCALENDAR
VERSION:2.0
PRODID:-//empowercdc.org//NONSGML kigkonsult.se iCalcreator 2.30.10//
CALSCALE:GREGORIAN
METHOD:PUBLISH
UID:08599022-c256-45f9-ac1f-1852db7b9fdb
X-WR-CALDESC:EXERCISE\nCP- Texas A&M Agriculture\n@11AM
X-WR-RELCALID:6f56e89679900674a04ea5d67bc3ad7b
X-WR-TIMEZONE:America/Chicago
BEGIN:VTIMEZONE
TZID:America/Chicago
BEGIN:STANDARD
TZNAME:CST
DTSTART:20241103T020000
TZOFFSETFROM:-0500
TZOFFSETTO:-0600
RDATE:20251102T020000
END:STANDARD
BEGIN:DAYLIGHT
TZNAME:CDT
DTSTART:20240310T020000
TZOFFSETFROM:-0600
TZOFFSETTO:-0500
RDATE:20250309T020000
RDATE:20260308T020000
END:DAYLIGHT
END:VTIMEZONE
BEGIN:VEVENT
UID:a3c005d4-babd-43f0-85a8-0129d8ab3613
DTSTAMP:20260423T030320Z
DESCRIPTION:EXERCISE\nCP- Texas A&M Agriculture\n@11AM
DTSTART;TZID=America/Chicago:20250131T110000
DTEND;TZID=America/Chicago:20250131T120000
LOCATION:15707 Kuykendahl Ct\, Conroe\, TX 77384 US
SUMMARY:Kuykendalh Court: Exercise
END:VEVENT
END:VCALENDAR
