BEGIN:VCALENDAR
VERSION:2.0
PRODID:-//empowercdc.org//NONSGML kigkonsult.se iCalcreator 2.30.10//
CALSCALE:GREGORIAN
METHOD:PUBLISH
UID:bc6386a3-b094-4bce-be22-0e0e57c4c541
X-WR-CALDESC:ARTS & CRAFTS\nDIY JEWELRY\n@11AM
X-WR-RELCALID:0919458c72da13628368cd0490a1e5f0
X-WR-TIMEZONE:America/Chicago
BEGIN:VTIMEZONE
TZID:America/Chicago
BEGIN:STANDARD
TZNAME:CST
DTSTART:20241103T020000
TZOFFSETFROM:-0500
TZOFFSETTO:-0600
RDATE:20251102T020000
END:STANDARD
BEGIN:DAYLIGHT
TZNAME:CDT
DTSTART:20240310T020000
TZOFFSETFROM:-0600
TZOFFSETTO:-0500
RDATE:20250309T020000
RDATE:20260308T020000
END:DAYLIGHT
END:VTIMEZONE
BEGIN:VEVENT
UID:82a5791a-ac8c-458e-9636-d2b079a3f0d0
DTSTAMP:20260423T030741Z
DESCRIPTION:ARTS & CRAFTS\nDIY JEWELRY\n@11AM
DTSTART;TZID=America/Chicago:20250128T110000
DTEND;TZID=America/Chicago:20250128T120000
LOCATION:15707 Kuykendahl Ct\, Conroe\, TX 77384 US
SUMMARY:Kuykendalh Court: Arts & Crafts
END:VEVENT
END:VCALENDAR
