BEGIN:VCALENDAR
VERSION:2.0
PRODID:-//empowercdc.org//NONSGML kigkonsult.se iCalcreator 2.30.10//
CALSCALE:GREGORIAN
METHOD:PUBLISH
UID:51945463-a757-47d2-9fd1-991f8f5c3492
X-WR-CALDESC:EXERCISE- Empower\nSit and Be Fit\n@10:00AM
X-WR-RELCALID:5224eb56cbb927dfacc7ef2ab5527a2b
X-WR-TIMEZONE:America/Chicago
BEGIN:VTIMEZONE
TZID:America/Chicago
BEGIN:STANDARD
TZNAME:CST
DTSTART:20241103T020000
TZOFFSETFROM:-0500
TZOFFSETTO:-0600
RDATE:20251102T020000
END:STANDARD
BEGIN:DAYLIGHT
TZNAME:CDT
DTSTART:20240310T020000
TZOFFSETFROM:-0600
TZOFFSETTO:-0500
RDATE:20250309T020000
RDATE:20260308T020000
END:DAYLIGHT
END:VTIMEZONE
BEGIN:VEVENT
UID:b472fa98-25a0-46a8-a675-6e58332b6abd
DTSTAMP:20260422T071122Z
DESCRIPTION:EXERCISE- Empower\nSit and Be Fit\n@10:00AM
DTSTART;TZID=America/Chicago:20250128T100000
DTEND;TZID=America/Chicago:20250128T110000
LOCATION:1830 Hollyoak Dr\, Houston\, TX 77084 US
SUMMARY:Hollyoak: Exercise
END:VEVENT
END:VCALENDAR
