BEGIN:VCALENDAR
VERSION:2.0
PRODID:-//empowercdc.org//NONSGML kigkonsult.se iCalcreator 2.30.10//
CALSCALE:GREGORIAN
METHOD:PUBLISH
UID:ad45291c-2e92-463f-b1c3-df61f8f770ea
X-WR-CALDESC:SOCIAL\nCAPRICORN/ AQUARIUS BIRTHDAY\n@2PM\n\nARTS & CRAFTS\nD
 IY FIDGET SPINNER\n@3PM\n\n*Resident only event*
X-WR-RELCALID:4e8815118e430a7bf37bd8f8a48148d0
X-WR-TIMEZONE:America/Chicago
BEGIN:VTIMEZONE
TZID:America/Chicago
BEGIN:STANDARD
TZNAME:CST
DTSTART:20241103T020000
TZOFFSETFROM:-0500
TZOFFSETTO:-0600
RDATE:20251102T020000
END:STANDARD
BEGIN:DAYLIGHT
TZNAME:CDT
DTSTART:20240310T020000
TZOFFSETFROM:-0600
TZOFFSETTO:-0500
RDATE:20250309T020000
RDATE:20260308T020000
END:DAYLIGHT
END:VTIMEZONE
BEGIN:VEVENT
UID:7c249ba7-99a8-4358-962e-2385e0044390
DTSTAMP:20260423T030438Z
DESCRIPTION:SOCIAL\nCAPRICORN/ AQUARIUS BIRTHDAY\n@2PM\n\nARTS & CRAFTS\nDI
 Y FIDGET SPINNER\n@3PM\n\n*Resident only event*
DTSTART;TZID=America/Chicago:20250127T140000
DTEND;TZID=America/Chicago:20250127T160000
LOCATION:1620 Spencer Hwy\, South Houston\, TX 77587 US
SUMMARY:Windsor Gardens: Social\, Arts & Crafts
END:VEVENT
END:VCALENDAR
