BEGIN:VCALENDAR
VERSION:2.0
PRODID:-//empowercdc.org//NONSGML kigkonsult.se iCalcreator 2.30.10//
CALSCALE:GREGORIAN
METHOD:PUBLISH
UID:d2ad2b4a-5f40-48cb-b7b1-237769d674c2
X-WR-CALDESC:EXERCISE\nCP- Texas A&M Agriculture\n@11AM
X-WR-RELCALID:34ea076f1e806bfec9ac8938c88b1c50
X-WR-TIMEZONE:America/Chicago
BEGIN:VTIMEZONE
TZID:America/Chicago
BEGIN:STANDARD
TZNAME:CST
DTSTART:20241103T020000
TZOFFSETFROM:-0500
TZOFFSETTO:-0600
RDATE:20251102T020000
END:STANDARD
BEGIN:DAYLIGHT
TZNAME:CDT
DTSTART:20240310T020000
TZOFFSETFROM:-0600
TZOFFSETTO:-0500
RDATE:20250309T020000
RDATE:20260308T020000
END:DAYLIGHT
END:VTIMEZONE
BEGIN:VEVENT
UID:b068b36e-babf-4f77-8a7c-c8efe348cce1
DTSTAMP:20260423T030450Z
DESCRIPTION:EXERCISE\nCP- Texas A&M Agriculture\n@11AM
DTSTART;TZID=America/Chicago:20250124T110000
DTEND;TZID=America/Chicago:20250124T120000
LOCATION:15707 Kuykendahl Ct\, Conroe\, TX 77384 US
SUMMARY:Kuykendalh Court: Exercise
END:VEVENT
END:VCALENDAR
