BEGIN:VCALENDAR
VERSION:2.0
PRODID:-//empowercdc.org//NONSGML kigkonsult.se iCalcreator 2.30.10//
CALSCALE:GREGORIAN
METHOD:PUBLISH
UID:9c53c047-d4f3-4c25-b1bf-95519366a7bf
X-WR-CALDESC:ARTS & CRAFTS\nEssential Oil Bath Salts\n@1:00 PM\n\nFINANCIAL
  PLANNING\nDeal or No Deal\n@2:00 PM
X-WR-RELCALID:7bc7639f6308c3ad24d0b0d9daed7671
X-WR-TIMEZONE:America/Chicago
BEGIN:VTIMEZONE
TZID:America/Chicago
BEGIN:STANDARD
TZNAME:CST
DTSTART:20241103T020000
TZOFFSETFROM:-0500
TZOFFSETTO:-0600
RDATE:20251102T020000
END:STANDARD
BEGIN:DAYLIGHT
TZNAME:CDT
DTSTART:20240310T020000
TZOFFSETFROM:-0600
TZOFFSETTO:-0500
RDATE:20250309T020000
RDATE:20260308T020000
END:DAYLIGHT
END:VTIMEZONE
BEGIN:VEVENT
UID:73508b95-5b43-49f2-b058-625c21d269c4
DTSTAMP:20260420T193309Z
DESCRIPTION:ARTS & CRAFTS\nEssential Oil Bath Salts\n@1:00 PM\n\nFINANCIAL 
 PLANNING\nDeal or No Deal\n@2:00 PM
DTSTART;TZID=America/Chicago:20250123T130000
DTEND;TZID=America/Chicago:20250123T150000
LOCATION:325 Flagship Boulevard\, Montgomery\, TX 77316 US
SUMMARY:The Heritage: Arts & Crafts\, Financial Planning
END:VEVENT
END:VCALENDAR
