BEGIN:VCALENDAR
VERSION:2.0
PRODID:-//empowercdc.org//NONSGML kigkonsult.se iCalcreator 2.30.10//
CALSCALE:GREGORIAN
METHOD:PUBLISH
UID:158d797a-b9b7-474c-b44c-fcdd7c30ca63
X-WR-CALDESC:ARTS & CRAFTS\nEssential Oil Bath Salts\n@10:00 AM
X-WR-RELCALID:d17693a53c6932deee8e2d496fb04fe5
X-WR-TIMEZONE:America/Chicago
BEGIN:VTIMEZONE
TZID:America/Chicago
BEGIN:STANDARD
TZNAME:CST
DTSTART:20241103T020000
TZOFFSETFROM:-0500
TZOFFSETTO:-0600
RDATE:20251102T020000
END:STANDARD
BEGIN:DAYLIGHT
TZNAME:CDT
DTSTART:20240310T020000
TZOFFSETFROM:-0600
TZOFFSETTO:-0500
RDATE:20250309T020000
RDATE:20260308T020000
END:DAYLIGHT
END:VTIMEZONE
BEGIN:VEVENT
UID:2c2fc177-3223-4b87-ad6b-a98fddddc46c
DTSTAMP:20260423T030433Z
DESCRIPTION:ARTS & CRAFTS\nEssential Oil Bath Salts\n@10:00 AM
DTSTART;TZID=America/Chicago:20250123T100000
DTEND;TZID=America/Chicago:20250123T110000
LOCATION:219 Flagship Blvd\, Montgomery\, TX 77316 US
SUMMARY:The Heritage 55+: Arts & Crafts
END:VEVENT
END:VCALENDAR
