BEGIN:VCALENDAR
VERSION:2.0
PRODID:-//empowercdc.org//NONSGML kigkonsult.se iCalcreator 2.30.10//
CALSCALE:GREGORIAN
METHOD:PUBLISH
UID:572704f9-8ba0-4198-b24d-e14791b03ec1
X-WR-CALDESC:EXERCISE\nLINE DANCE\n@10AM\n\nARTS & CRAFTS\nDIY JEWELRY\n@11
 AM\n\n*Resident only event*
X-WR-RELCALID:73b5a6aa50a2b500f3bfb4c1a518128a
X-WR-TIMEZONE:America/Chicago
BEGIN:VTIMEZONE
TZID:America/Chicago
BEGIN:STANDARD
TZNAME:CST
DTSTART:20241103T020000
TZOFFSETFROM:-0500
TZOFFSETTO:-0600
RDATE:20251102T020000
END:STANDARD
BEGIN:DAYLIGHT
TZNAME:CDT
DTSTART:20240310T020000
TZOFFSETFROM:-0600
TZOFFSETTO:-0500
RDATE:20250309T020000
RDATE:20260308T020000
END:DAYLIGHT
END:VTIMEZONE
BEGIN:VEVENT
UID:bad89d0e-1fd0-43a4-a570-27ea1ad28a69
DTSTAMP:20260423T030314Z
DESCRIPTION:EXERCISE\nLINE DANCE\n@10AM\n\nARTS & CRAFTS\nDIY JEWELRY\n@11A
 M\n\n*Resident only event*
DTSTART;TZID=America/Chicago:20250123T100000
DTEND;TZID=America/Chicago:20250123T120000
LOCATION:1717 FM359\, Richmond\, TX 77406 US
SUMMARY:Jones Creek: Exercise\, Arts & Crafts
END:VEVENT
END:VCALENDAR
