BEGIN:VCALENDAR
VERSION:2.0
PRODID:-//empowercdc.org//NONSGML kigkonsult.se iCalcreator 2.30.10//
CALSCALE:GREGORIAN
METHOD:PUBLISH
UID:02f94b7e-e75e-456c-b40a-c545d54b77ca
X-WR-CALDESC:ARTS & CRAFTS- Empower\nBracelets\n@3:00\n\n*Resident only eve
 nt*
X-WR-RELCALID:f1588d6250d76f8aad1e91c2cdb27611
X-WR-TIMEZONE:America/Chicago
BEGIN:VTIMEZONE
TZID:America/Chicago
BEGIN:STANDARD
TZNAME:CST
DTSTART:20241103T020000
TZOFFSETFROM:-0500
TZOFFSETTO:-0600
RDATE:20251102T020000
END:STANDARD
BEGIN:DAYLIGHT
TZNAME:CDT
DTSTART:20240310T020000
TZOFFSETFROM:-0600
TZOFFSETTO:-0500
RDATE:20250309T020000
RDATE:20260308T020000
END:DAYLIGHT
END:VTIMEZONE
BEGIN:VEVENT
UID:9afce561-3e09-4dfe-ac44-2c3598b7eda8
DTSTAMP:20260423T025942Z
DESCRIPTION:ARTS & CRAFTS- Empower\nBracelets\n@3:00\n\n*Resident only even
 t*
DTSTART;TZID=America/Chicago:20250123T150000
DTEND;TZID=America/Chicago:20250123T160000
LOCATION:6725 Brittmoore Road\, Houston\, TX 77041 US
SUMMARY:Brittmoore: Arts & Crafts
END:VEVENT
END:VCALENDAR
