BEGIN:VCALENDAR
VERSION:2.0
PRODID:-//empowercdc.org//NONSGML kigkonsult.se iCalcreator 2.30.10//
CALSCALE:GREGORIAN
METHOD:PUBLISH
UID:cad6abe1-0895-464e-8ed9-6d3c5b8fc0b0
X-WR-CALDESC:EXERCISE\nCP- Texas A&M Agriculture\n@11AM\n\nHEALTH & NUTRITI
 ON\nCP- Texas A&M Agriculture\n@12PM
X-WR-RELCALID:23df995a1029f27ad06778ae790cb667
X-WR-TIMEZONE:America/Chicago
BEGIN:VTIMEZONE
TZID:America/Chicago
BEGIN:STANDARD
TZNAME:CST
DTSTART:20241103T020000
TZOFFSETFROM:-0500
TZOFFSETTO:-0600
RDATE:20251102T020000
END:STANDARD
BEGIN:DAYLIGHT
TZNAME:CDT
DTSTART:20240310T020000
TZOFFSETFROM:-0600
TZOFFSETTO:-0500
RDATE:20250309T020000
RDATE:20260308T020000
END:DAYLIGHT
END:VTIMEZONE
BEGIN:VEVENT
UID:4e3a8b12-d519-4ddc-8cb6-e871c18a936f
DTSTAMP:20260423T031026Z
DESCRIPTION:EXERCISE\nCP- Texas A&M Agriculture\n@11AM\n\nHEALTH & NUTRITIO
 N\nCP- Texas A&M Agriculture\n@12PM
DTSTART;TZID=America/Chicago:20250117T110000
DTEND;TZID=America/Chicago:20250117T130000
LOCATION:15707 Kuykendahl Ct\, Conroe\, TX 77384 US
SUMMARY:Kuykendalh Court: Exercise\, Health & Nutrition
END:VEVENT
END:VCALENDAR
