BEGIN:VCALENDAR
VERSION:2.0
PRODID:-//empowercdc.org//NONSGML kigkonsult.se iCalcreator 2.30.10//
CALSCALE:GREGORIAN
METHOD:PUBLISH
UID:4c5fcd21-fce7-4fc4-b985-7d6164e633d6
X-WR-CALDESC:SOCIAL\nTea Party @ 1:00PM\n\nFOOD PANTRY\n@ 2:00PM
X-WR-RELCALID:d55e436615a53e75182d5a5418267571
X-WR-TIMEZONE:America/Chicago
BEGIN:VTIMEZONE
TZID:America/Chicago
BEGIN:STANDARD
TZNAME:CST
DTSTART:20241103T020000
TZOFFSETFROM:-0500
TZOFFSETTO:-0600
RDATE:20251102T020000
END:STANDARD
BEGIN:DAYLIGHT
TZNAME:CDT
DTSTART:20240310T020000
TZOFFSETFROM:-0600
TZOFFSETTO:-0500
RDATE:20250309T020000
RDATE:20260308T020000
END:DAYLIGHT
END:VTIMEZONE
BEGIN:VEVENT
UID:af79f39e-8601-4016-b22e-d646a237e240
DTSTAMP:20260423T030606Z
DESCRIPTION:SOCIAL\nTea Party @ 1:00PM\n\nFOOD PANTRY\n@ 2:00PM
DTSTART;TZID=America/Chicago:20250116T130000
DTEND;TZID=America/Chicago:20250116T150000
LOCATION:325 Flagship Boulevard\, Montgomery\, TX 77316 US
SUMMARY:The Heritage: Tea Party\, Food Pantry
END:VEVENT
END:VCALENDAR
