BEGIN:VCALENDAR
VERSION:2.0
PRODID:-//empowercdc.org//NONSGML kigkonsult.se iCalcreator 2.30.10//
CALSCALE:GREGORIAN
METHOD:PUBLISH
UID:cff76c86-dc75-470d-b181-5c2ebac2fe4c
X-WR-CALDESC:SOCIAL\nGAME DAY\n@3PM\n\n*Resident only event*
X-WR-RELCALID:b63dee593040ca5c4223f6defd1f2631
X-WR-TIMEZONE:America/Chicago
BEGIN:VTIMEZONE
TZID:America/Chicago
BEGIN:STANDARD
TZNAME:CST
DTSTART:20241103T020000
TZOFFSETFROM:-0500
TZOFFSETTO:-0600
RDATE:20251102T020000
END:STANDARD
BEGIN:DAYLIGHT
TZNAME:CDT
DTSTART:20240310T020000
TZOFFSETFROM:-0600
TZOFFSETTO:-0500
RDATE:20250309T020000
RDATE:20260308T020000
END:DAYLIGHT
END:VTIMEZONE
BEGIN:VEVENT
UID:39fd0142-0448-4d96-9c1b-78cf0a3b2742
DTSTAMP:20260423T022707Z
DESCRIPTION:SOCIAL\nGAME DAY\n@3PM\n\n*Resident only event*
DTSTART;TZID=America/Chicago:20250113T150000
DTEND;TZID=America/Chicago:20250113T160000
LOCATION:1620 Spencer Hwy\, South Houston\, TX 77587 US
SUMMARY:Windsor Gardens: Social
END:VEVENT
END:VCALENDAR
