BEGIN:VCALENDAR
VERSION:2.0
PRODID:-//empowercdc.org//NONSGML kigkonsult.se iCalcreator 2.30.10//
CALSCALE:GREGORIAN
METHOD:PUBLISH
UID:708c7ef2-d0f8-4625-9a15-d1786b00b9c4
X-WR-CALDESC:EXERCISE Empower\nDynamic Stretching\n@ 3:00 PM\n\nCHARACTER B
 UILDING\nEmpower\nSpelling B\n@ 4:00 PM\n\n*Resident only event*
X-WR-RELCALID:d82fb2497584a244dbed8e2d3871ca7d
X-WR-TIMEZONE:America/Chicago
BEGIN:VTIMEZONE
TZID:America/Chicago
BEGIN:STANDARD
TZNAME:CST
DTSTART:20241103T020000
TZOFFSETFROM:-0500
TZOFFSETTO:-0600
RDATE:20251102T020000
END:STANDARD
BEGIN:DAYLIGHT
TZNAME:CDT
DTSTART:20240310T020000
TZOFFSETFROM:-0600
TZOFFSETTO:-0500
RDATE:20250309T020000
RDATE:20260308T020000
END:DAYLIGHT
END:VTIMEZONE
BEGIN:VEVENT
UID:76845169-70b3-4066-9039-8a4c20640e63
DTSTAMP:20260423T025847Z
DESCRIPTION:EXERCISE Empower\nDynamic Stretching\n@ 3:00 PM\n\nCHARACTER BU
 ILDING\nEmpower\nSpelling B\n@ 4:00 PM\n\n*Resident only event*
DTSTART;TZID=America/Chicago:20250113T150000
DTEND;TZID=America/Chicago:20250113T170000
LOCATION:12353 Huffmeister Rd\, Cypress\, TX 77429 US
SUMMARY:The Meadows: Exercise\, Character Building
END:VEVENT
END:VCALENDAR
