BEGIN:VCALENDAR
VERSION:2.0
PRODID:-//empowercdc.org//NONSGML kigkonsult.se iCalcreator 2.30.10//
CALSCALE:GREGORIAN
METHOD:PUBLISH
UID:b576f98b-61c9-4a6e-a340-0afd1c2687b2
X-WR-CALDESC:SOCIAL Empower\nNew Years Social\n@ 3:00 PM\n\n*Resident only 
 event*
X-WR-RELCALID:d43750975fafe8c612b942c16c64af27
X-WR-TIMEZONE:America/Chicago
BEGIN:VTIMEZONE
TZID:America/Chicago
BEGIN:STANDARD
TZNAME:CST
DTSTART:20241103T020000
TZOFFSETFROM:-0500
TZOFFSETTO:-0600
RDATE:20251102T020000
END:STANDARD
BEGIN:DAYLIGHT
TZNAME:CDT
DTSTART:20240310T020000
TZOFFSETFROM:-0600
TZOFFSETTO:-0500
RDATE:20250309T020000
RDATE:20260308T020000
END:DAYLIGHT
END:VTIMEZONE
BEGIN:VEVENT
UID:5c1e71fd-34d2-413e-abf1-ac1b238a4d42
DTSTAMP:20260423T030906Z
DESCRIPTION:SOCIAL Empower\nNew Years Social\n@ 3:00 PM\n\n*Resident only e
 vent*
DTSTART;TZID=America/Chicago:20250110T150000
DTEND;TZID=America/Chicago:20250110T170000
LOCATION:12353 Huffmeister Rd\, Cypress\, TX 77429 US
SUMMARY:The Meadows: New Years Social
END:VEVENT
END:VCALENDAR
