BEGIN:VCALENDAR
VERSION:2.0
PRODID:-//empowercdc.org//NONSGML kigkonsult.se iCalcreator 2.30.10//
CALSCALE:GREGORIAN
METHOD:PUBLISH
UID:bda57376-1989-4ce9-a96a-2275b28326e3
X-WR-CALDESC:ARTS & CRAFTS\nCANVAS PAINT\n@10AM\n\nEXERCISE\nCP- Texas A&M 
 Agriculture\n@11AM
X-WR-RELCALID:e635304298eb371d623292ba02bdd5fa
X-WR-TIMEZONE:America/Chicago
BEGIN:VTIMEZONE
TZID:America/Chicago
BEGIN:STANDARD
TZNAME:CST
DTSTART:20241103T020000
TZOFFSETFROM:-0500
TZOFFSETTO:-0600
RDATE:20251102T020000
END:STANDARD
BEGIN:DAYLIGHT
TZNAME:CDT
DTSTART:20240310T020000
TZOFFSETFROM:-0600
TZOFFSETTO:-0500
RDATE:20250309T020000
RDATE:20260308T020000
END:DAYLIGHT
END:VTIMEZONE
BEGIN:VEVENT
UID:d3ead480-c73d-4ee5-b51c-c3ade69e6c5f
DTSTAMP:20260423T030906Z
DESCRIPTION:ARTS & CRAFTS\nCANVAS PAINT\n@10AM\n\nEXERCISE\nCP- Texas A&M A
 griculture\n@11AM
DTSTART;TZID=America/Chicago:20250110T100000
DTEND;TZID=America/Chicago:20250110T120000
LOCATION:15707 Kuykendahl Ct\, Conroe\, TX 77384 US
SUMMARY:Kuykendalh Court: Arts & Crafts\, Exercise
END:VEVENT
END:VCALENDAR
