BEGIN:VCALENDAR
VERSION:2.0
PRODID:-//empowercdc.org//NONSGML kigkonsult.se iCalcreator 2.30.10//
CALSCALE:GREGORIAN
METHOD:PUBLISH
UID:86374e42-c2f8-4014-9546-b111e74915b3
X-WR-CALDESC:HEALTH & NUTRITION\nSmoothies\n@1:00 PM\n\nARTS & CRAFTS\nVisi
 on Boards\n@2:00PM
X-WR-RELCALID:c045f17a4e08aa901b1d81d4594c5e9c
X-WR-TIMEZONE:America/Chicago
BEGIN:VTIMEZONE
TZID:America/Chicago
BEGIN:STANDARD
TZNAME:CST
DTSTART:20241103T020000
TZOFFSETFROM:-0500
TZOFFSETTO:-0600
RDATE:20251102T020000
END:STANDARD
BEGIN:DAYLIGHT
TZNAME:CDT
DTSTART:20240310T020000
TZOFFSETFROM:-0600
TZOFFSETTO:-0500
RDATE:20250309T020000
RDATE:20260308T020000
END:DAYLIGHT
END:VTIMEZONE
BEGIN:VEVENT
UID:eb270e6e-66ed-444b-8336-6d28679b2e28
DTSTAMP:20260423T031435Z
DESCRIPTION:HEALTH & NUTRITION\nSmoothies\n@1:00 PM\n\nARTS & CRAFTS\nVisio
 n Boards\n@2:00PM
DTSTART;TZID=America/Chicago:20250109T130000
DTEND;TZID=America/Chicago:20250109T150000
LOCATION:325 Flagship Boulevard\, Montgomery\, TX 77316 US
SUMMARY:The Heritage: Health & Nutrition\, Arts & Craft
END:VEVENT
END:VCALENDAR
