BEGIN:VCALENDAR
VERSION:2.0
PRODID:-//empowercdc.org//NONSGML kigkonsult.se iCalcreator 2.30.10//
CALSCALE:GREGORIAN
METHOD:PUBLISH
UID:55241f5f-b5a6-4cf3-a505-d6675b2a3da3
X-WR-CALDESC:FOOD PANTRY\n@1:00PM\nCP- TX SMP\n\n*Resident only event*
X-WR-RELCALID:9bacca71ff771b200e6ba3673336c639
X-WR-TIMEZONE:America/Chicago
BEGIN:VTIMEZONE
TZID:America/Chicago
BEGIN:STANDARD
TZNAME:CST
DTSTART:20241103T020000
TZOFFSETFROM:-0500
TZOFFSETTO:-0600
RDATE:20251102T020000
END:STANDARD
BEGIN:DAYLIGHT
TZNAME:CDT
DTSTART:20240310T020000
TZOFFSETFROM:-0600
TZOFFSETTO:-0500
RDATE:20250309T020000
RDATE:20260308T020000
END:DAYLIGHT
END:VTIMEZONE
BEGIN:VEVENT
UID:2ef86621-404c-4f12-af9e-3d8c615cb83f
DTSTAMP:20260423T031248Z
DESCRIPTION:FOOD PANTRY\n@1:00PM\nCP- TX SMP\n\n*Resident only event*
DTSTART;TZID=America/Chicago:20250107T130000
DTEND;TZID=America/Chicago:20250107T150000
LOCATION:1620 Spencer Hwy\, South Houston\, TX 77587 US
SUMMARY:Windsor Gardens: Food Pantry
END:VEVENT
END:VCALENDAR
