BEGIN:VCALENDAR
VERSION:2.0
PRODID:-//empowercdc.org//NONSGML kigkonsult.se iCalcreator 2.30.10//
CALSCALE:GREGORIAN
METHOD:PUBLISH
UID:2fd7afc8-0ff1-4af1-b324-2f4563aad491
X-WR-CALDESC:ARTS & CRAFTS\nDIY REFRIGERATOR MAGNETS\n@3PM\n\n*Resident onl
 y event*
X-WR-RELCALID:5816f2ccc3bd48c5f517df988324b4be
X-WR-TIMEZONE:America/Chicago
BEGIN:VTIMEZONE
TZID:America/Chicago
BEGIN:STANDARD
TZNAME:CST
DTSTART:20241103T020000
TZOFFSETFROM:-0500
TZOFFSETTO:-0600
RDATE:20251102T020000
END:STANDARD
BEGIN:DAYLIGHT
TZNAME:CDT
DTSTART:20240310T020000
TZOFFSETFROM:-0600
TZOFFSETTO:-0500
RDATE:20250309T020000
RDATE:20260308T020000
END:DAYLIGHT
END:VTIMEZONE
BEGIN:VEVENT
UID:080e7ed9-6802-4373-8862-76acbae9c80a
DTSTAMP:20260423T030207Z
DESCRIPTION:ARTS & CRAFTS\nDIY REFRIGERATOR MAGNETS\n@3PM\n\n*Resident only
  event*
DTSTART;TZID=America/Chicago:20250106T150000
DTEND;TZID=America/Chicago:20250106T160000
LOCATION:1620 Spencer Hwy\, South Houston\, TX 77587 US
SUMMARY:Windsor Gardens: Arts & Crafts (Copy)
END:VEVENT
END:VCALENDAR
