BEGIN:VCALENDAR
VERSION:2.0
PRODID:-//empowercdc.org//NONSGML kigkonsult.se iCalcreator 2.30.10//
CALSCALE:GREGORIAN
METHOD:PUBLISH
UID:ef513cf7-8201-4624-9a32-75c4a6caf53a
X-WR-CALDESC:EXERCISE- Empower\nDynamic Stretching\n@ 3:00 PM\n\nARTS & CRA
 FTS- Empower\nNew Years Coloring\n@ 4:00 PM\n\n*Resident only event*
X-WR-RELCALID:a1e52377fd0fa725f102b6f3176ded69
X-WR-TIMEZONE:America/Chicago
BEGIN:VTIMEZONE
TZID:America/Chicago
BEGIN:STANDARD
TZNAME:CST
DTSTART:20241103T020000
TZOFFSETFROM:-0500
TZOFFSETTO:-0600
RDATE:20251102T020000
END:STANDARD
BEGIN:DAYLIGHT
TZNAME:CDT
DTSTART:20240310T020000
TZOFFSETFROM:-0600
TZOFFSETTO:-0500
RDATE:20250309T020000
RDATE:20260308T020000
END:DAYLIGHT
END:VTIMEZONE
BEGIN:VEVENT
UID:0f65dd00-5772-42b7-a226-8921869cc94b
DTSTAMP:20260423T025948Z
DESCRIPTION:EXERCISE- Empower\nDynamic Stretching\n@ 3:00 PM\n\nARTS & CRAF
 TS- Empower\nNew Years Coloring\n@ 4:00 PM\n\n*Resident only event*
DTSTART;TZID=America/Chicago:20250106T150000
DTEND;TZID=America/Chicago:20250106T170000
LOCATION:12353 Huffmeister Rd\, Cypress\, TX 77429 US
SUMMARY:The Meadows: Exercise\, Arts & Crafts
END:VEVENT
END:VCALENDAR
