BEGIN:VCALENDAR
VERSION:2.0
PRODID:-//empowercdc.org//NONSGML kigkonsult.se iCalcreator 2.30.10//
CALSCALE:GREGORIAN
METHOD:PUBLISH
UID:1ad8b387-5344-4341-b31d-cb663d0bfd2f
X-WR-CALDESC:SOCIAL- Blazer/Empower\nWinter Wonderland Party\n“A Touch of B
 lue\,\nJust for YOU!\n@5PM\n\n*Resident only event*
X-WR-RELCALID:cfed343a394ed01aef70111fbdf2013b
X-WR-TIMEZONE:America/Chicago
BEGIN:VTIMEZONE
TZID:America/Chicago
BEGIN:STANDARD
TZNAME:CST
DTSTART:20241103T020000
TZOFFSETFROM:-0500
TZOFFSETTO:-0600
RDATE:20251102T020000
END:STANDARD
BEGIN:DAYLIGHT
TZNAME:CDT
DTSTART:20240310T020000
TZOFFSETFROM:-0600
TZOFFSETTO:-0500
RDATE:20250309T020000
RDATE:20260308T020000
END:DAYLIGHT
END:VTIMEZONE
BEGIN:VEVENT
UID:5fdc9dc8-2c7a-4c3e-8702-9a64d376117a
DTSTAMP:20260423T012953Z
DESCRIPTION:SOCIAL- Blazer/Empower\nWinter Wonderland Party\n“A Touch of Bl
 ue\,\nJust for YOU!\n@5PM\n\n*Resident only event*
DTSTART;TZID=America/Chicago:20241220T170000
DTEND;TZID=America/Chicago:20241220T190000
LOCATION:1830 Hollyoak Dr\, Houston\, TX 77084 US
SUMMARY:Hollyoak: Winter Wonderland Party
END:VEVENT
END:VCALENDAR
