BEGIN:VCALENDAR
VERSION:2.0
PRODID:-//empowercdc.org//NONSGML kigkonsult.se iCalcreator 2.30.10//
CALSCALE:GREGORIAN
METHOD:PUBLISH
UID:70380ac8-78cd-434f-9144-4ff41571244d
X-WR-CALDESC:FINANCIAL PLANNING\nHoliday Savings\n@10AM\n\nEXERCISE\nCP- Te
 xas A&M Agriculture\n@11AM\n\nHEALTH & NUTRITION\nCP- Texas A&M Agricultur
 e\n@12PM
X-WR-RELCALID:0a25521511e1bb20c6ed48c03b12e73d
X-WR-TIMEZONE:America/Chicago
BEGIN:VTIMEZONE
TZID:America/Chicago
BEGIN:STANDARD
TZNAME:CST
DTSTART:20241103T020000
TZOFFSETFROM:-0500
TZOFFSETTO:-0600
RDATE:20251102T020000
END:STANDARD
BEGIN:DAYLIGHT
TZNAME:CDT
DTSTART:20240310T020000
TZOFFSETFROM:-0600
TZOFFSETTO:-0500
RDATE:20250309T020000
RDATE:20260308T020000
END:DAYLIGHT
END:VTIMEZONE
BEGIN:VEVENT
UID:32c93543-8161-4916-bcbb-c5641e098438
DTSTAMP:20260423T014120Z
DESCRIPTION:FINANCIAL PLANNING\nHoliday Savings\n@10AM\n\nEXERCISE\nCP- Tex
 as A&M Agriculture\n@11AM\n\nHEALTH & NUTRITION\nCP- Texas A&M Agriculture
 \n@12PM
DTSTART;TZID=America/Chicago:20241213T100000
DTEND;TZID=America/Chicago:20241213T130000
LOCATION:15707 Kuykendahl Ct\, Conroe\, TX 77384 US
SUMMARY:Kuykendalh Court: Financial Planning\, Exercise\, Health & Nutritio
 n
END:VEVENT
END:VCALENDAR
