BEGIN:VCALENDAR
VERSION:2.0
PRODID:-//empowercdc.org//NONSGML kigkonsult.se iCalcreator 2.30.10//
CALSCALE:GREGORIAN
METHOD:PUBLISH
UID:e752ce86-a539-41d9-bae3-cb1f8fcf443e
X-WR-CALDESC:ARTS & CRAFTS-DoTerra\nEssential Oil Surprise\n@10:00AM\n\nSOC
 IAL-Empower\nHoliday Celebration\n“Ugly Sweater”\n@11:30AM\n\n*Resident on
 ly event*
X-WR-RELCALID:116c2e1d2d934c210cda10dc37b19e65
X-WR-TIMEZONE:America/Chicago
BEGIN:VTIMEZONE
TZID:America/Chicago
BEGIN:STANDARD
TZNAME:CST
DTSTART:20241103T020000
TZOFFSETFROM:-0500
TZOFFSETTO:-0600
RDATE:20251102T020000
END:STANDARD
BEGIN:DAYLIGHT
TZNAME:CDT
DTSTART:20240310T020000
TZOFFSETFROM:-0600
TZOFFSETTO:-0500
RDATE:20250309T020000
RDATE:20260308T020000
END:DAYLIGHT
END:VTIMEZONE
BEGIN:VEVENT
UID:0e8a941a-70e4-4ee9-af4f-1cf62c32c76f
DTSTAMP:20260423T013924Z
DESCRIPTION:ARTS & CRAFTS-DoTerra\nEssential Oil Surprise\n@10:00AM\n\nSOCI
 AL-Empower\nHoliday Celebration\n“Ugly Sweater”\n@11:30AM\n\n*Resident onl
 y event*
DTSTART;TZID=America/Chicago:20241213T100000
DTEND;TZID=America/Chicago:20241213T123000
LOCATION:1830 Hollyoak Dr\, Houston\, TX 77084 US
SUMMARY:Hollyoak: Christmas Social\, Arts & Crafts
END:VEVENT
END:VCALENDAR
