BEGIN:VCALENDAR
VERSION:2.0
PRODID:-//empowercdc.org//NONSGML kigkonsult.se iCalcreator 2.30.10//
CALSCALE:GREGORIAN
METHOD:PUBLISH
UID:8f931050-64c3-4d0b-8bb6-5a5c4bfbcb8f
X-WR-CALDESC:HEALTH & NUTRITION- 12 HEALTHY DAYS OF CHRISTMAS\n10AM\n\nEXER
 CISE- FITNESS BINGO\n@11AM\n\n*Resident only event*
X-WR-RELCALID:5f76a9f78d6bae7cb973f9db1ca5d314
X-WR-TIMEZONE:America/Chicago
BEGIN:VTIMEZONE
TZID:America/Chicago
BEGIN:STANDARD
TZNAME:CST
DTSTART:20241103T020000
TZOFFSETFROM:-0500
TZOFFSETTO:-0600
RDATE:20251102T020000
END:STANDARD
BEGIN:DAYLIGHT
TZNAME:CDT
DTSTART:20240310T020000
TZOFFSETFROM:-0600
TZOFFSETTO:-0500
RDATE:20250309T020000
RDATE:20260308T020000
END:DAYLIGHT
END:VTIMEZONE
BEGIN:VEVENT
UID:b9274e49-bba9-4c11-b7f7-ae6c60d2f77b
DTSTAMP:20260423T013124Z
DESCRIPTION:HEALTH & NUTRITION- 12 HEALTHY DAYS OF CHRISTMAS\n10AM\n\nEXERC
 ISE- FITNESS BINGO\n@11AM\n\n*Resident only event*
DTSTART;TZID=America/Chicago:20241211T100000
DTEND;TZID=America/Chicago:20241211T120000
LOCATION:1717 FM359\, Richmond\, TX 77406 US
SUMMARY:Jones Creek: Health & Nutrition\, Exercise
END:VEVENT
END:VCALENDAR
