BEGIN:VCALENDAR
VERSION:2.0
PRODID:-//empowercdc.org//NONSGML kigkonsult.se iCalcreator 2.30.10//
CALSCALE:GREGORIAN
METHOD:PUBLISH
UID:94592bb1-de02-421f-be52-3fac3badafe0
X-WR-CALDESC:Health & Nutrition\nFruit Bash\n@ 3:00 PM\n\nAnnual Health Fai
 r\nHealth Fair\n@ 4:00 PM\n\n*Resident only event*
X-WR-RELCALID:deb8149bb7f1452a7a767cdd975f4d33
X-WR-TIMEZONE:America/Chicago
BEGIN:VTIMEZONE
TZID:America/Chicago
BEGIN:STANDARD
TZNAME:CST
DTSTART:20241103T020000
TZOFFSETFROM:-0500
TZOFFSETTO:-0600
RDATE:20251102T020000
END:STANDARD
BEGIN:DAYLIGHT
TZNAME:CDT
DTSTART:20240310T020000
TZOFFSETFROM:-0600
TZOFFSETTO:-0500
RDATE:20250309T020000
RDATE:20260308T020000
END:DAYLIGHT
END:VTIMEZONE
BEGIN:VEVENT
UID:8dd3bf82-02f1-46c5-b1bb-9067fc07dcb2
DTSTAMP:20260423T014120Z
DESCRIPTION:Health & Nutrition\nFruit Bash\n@ 3:00 PM\n\nAnnual Health Fair
 \nHealth Fair\n@ 4:00 PM\n\n*Resident only event*
DTSTART;TZID=America/Chicago:20241210T150000
DTEND;TZID=America/Chicago:20241210T170000
LOCATION:12353 Huffmeister Rd\, Cypress\, TX 77429 US
SUMMARY:The Meadows: Health & Nutrition\, Annual Health Fair
END:VEVENT
END:VCALENDAR
