BEGIN:VCALENDAR
VERSION:2.0
PRODID:-//empowercdc.org//NONSGML kigkonsult.se iCalcreator 2.30.10//
CALSCALE:GREGORIAN
METHOD:PUBLISH
UID:c2aa3cf3-bfe3-413d-81f1-ffb67599fbac
X-WR-CALDESC:ARTS & CRAFTS-Empower\nHoliday Bows\n@1:00PM\n\nFINANCIAL PLAN
 NING- Empower\nDollars & Sense\n@2:00PM\n\nHEALTH & NUTRITION- Empower\nBa
 nana Nut Bread\n@3:00PM
X-WR-RELCALID:ca38af9620a4ff0ed0d4015f356b2cb4
X-WR-TIMEZONE:America/Chicago
BEGIN:VTIMEZONE
TZID:America/Chicago
BEGIN:STANDARD
TZNAME:CST
DTSTART:20241103T020000
TZOFFSETFROM:-0500
TZOFFSETTO:-0600
RDATE:20251102T020000
END:STANDARD
BEGIN:DAYLIGHT
TZNAME:CDT
DTSTART:20240310T020000
TZOFFSETFROM:-0600
TZOFFSETTO:-0500
RDATE:20250309T020000
RDATE:20260308T020000
END:DAYLIGHT
END:VTIMEZONE
BEGIN:VEVENT
UID:49abb120-67a9-4e0e-a88a-3b1a7325fa55
DTSTAMP:20260423T014034Z
DESCRIPTION:ARTS & CRAFTS-Empower\nHoliday Bows\n@1:00PM\n\nFINANCIAL PLANN
 ING- Empower\nDollars & Sense\n@2:00PM\n\nHEALTH & NUTRITION- Empower\nBan
 ana Nut Bread\n@3:00PM
DTSTART;TZID=America/Chicago:20241210T130000
DTEND;TZID=America/Chicago:20241210T160000
LOCATION:325 Flagship Boulevard\, Montgomery\, TX 77316 US
SUMMARY:The Heritage: Arts & Crafts\, Financial Planning\, Health & Nutriti
 on
END:VEVENT
END:VCALENDAR
