BEGIN:VCALENDAR
VERSION:2.0
PRODID:-//empowercdc.org//NONSGML kigkonsult.se iCalcreator 2.30.10//
CALSCALE:GREGORIAN
METHOD:PUBLISH
UID:4afe8d20-6269-4b71-b3fc-51badf3e78c6
X-WR-CALDESC:EXERCISE\nCP- Texas A&M Agriculture\n@11AM\n\nHEALTH & NUTRITI
 ON\nCP- Texas A&M Agriculture\n@12PM\n\nSOCIAL\nTHE NUTCRACKER BIRTHDAY\n1
 PM
X-WR-RELCALID:99dc14f468484270049cafddd0ac8c43
X-WR-TIMEZONE:America/Chicago
BEGIN:VTIMEZONE
TZID:America/Chicago
BEGIN:STANDARD
TZNAME:CST
DTSTART:20241103T020000
TZOFFSETFROM:-0500
TZOFFSETTO:-0600
RDATE:20251102T020000
END:STANDARD
BEGIN:DAYLIGHT
TZNAME:CDT
DTSTART:20240310T020000
TZOFFSETFROM:-0600
TZOFFSETTO:-0500
RDATE:20250309T020000
RDATE:20260308T020000
END:DAYLIGHT
END:VTIMEZONE
BEGIN:VEVENT
UID:3d1ba330-1380-4c36-8ee6-d98c7f1e0386
DTSTAMP:20260423T013941Z
DESCRIPTION:EXERCISE\nCP- Texas A&M Agriculture\n@11AM\n\nHEALTH & NUTRITIO
 N\nCP- Texas A&M Agriculture\n@12PM\n\nSOCIAL\nTHE NUTCRACKER BIRTHDAY\n1P
 M
DTSTART;TZID=America/Chicago:20241206T110000
DTEND;TZID=America/Chicago:20241206T140000
LOCATION:15707 Kuykendahl Ct\, Conroe\, TX 77384 US
SUMMARY:Kuykendalh Court: Exercise\, Health & Nutrition\, The Nutcracker
END:VEVENT
END:VCALENDAR
