BEGIN:VCALENDAR
VERSION:2.0
PRODID:-//empowercdc.org//NONSGML kigkonsult.se iCalcreator 2.30.10//
CALSCALE:GREGORIAN
METHOD:PUBLISH
UID:e05ba4b8-40c3-4b56-b33b-23f42cf7bcb0
X-WR-CALDESC:HEALTH & NUTRITION- Empower\nHealthier Foods\n@1:00PM\n\nAnnua
 l Health Fair- Empower\nHealth Fair\n@2:00PM\n\nFinancial Planning- Empowe
 r\nThe Price is Right\n@3:00PM
X-WR-RELCALID:67bbb7c9aee600ff686d372d1cd7e8d7
X-WR-TIMEZONE:America/Chicago
BEGIN:VTIMEZONE
TZID:America/Chicago
BEGIN:STANDARD
TZNAME:CST
DTSTART:20241103T020000
TZOFFSETFROM:-0500
TZOFFSETTO:-0600
RDATE:20251102T020000
END:STANDARD
BEGIN:DAYLIGHT
TZNAME:CDT
DTSTART:20240310T020000
TZOFFSETFROM:-0600
TZOFFSETTO:-0500
RDATE:20250309T020000
RDATE:20260308T020000
END:DAYLIGHT
END:VTIMEZONE
BEGIN:VEVENT
UID:d49821fc-c96c-4c69-b0ce-47fc7b5b188f
DTSTAMP:20260423T014201Z
DESCRIPTION:HEALTH & NUTRITION- Empower\nHealthier Foods\n@1:00PM\n\nAnnual
  Health Fair- Empower\nHealth Fair\n@2:00PM\n\nFinancial Planning- Empower
 \nThe Price is Right\n@3:00PM
DTSTART;TZID=America/Chicago:20241205T130000
DTEND;TZID=America/Chicago:20241205T160000
LOCATION:325 Flagship Boulevard\, Montgomery\, TX 77316 US
SUMMARY:The Heritage: Health & Nutrition\, Annual Health Fair\, Financial P
 lanning
END:VEVENT
END:VCALENDAR
