BEGIN:VCALENDAR
VERSION:2.0
PRODID:-//empowercdc.org//NONSGML kigkonsult.se iCalcreator 2.30.10//
CALSCALE:GREGORIAN
METHOD:PUBLISH
UID:7d94a49e-4e4a-43f9-835f-9b7a777f5a9b
X-WR-CALDESC:LAW ENFORCEMENT/FIRST RESPONDERS\nGetting up safely if you Fal
 l\n@ 10:00AM\n\nANNUAL HEALTH FAIR\nAnnual Health Fair\n@ 11:00AM
X-WR-RELCALID:0b7e6281cb9e901c1c2d1cb01833acd4
X-WR-TIMEZONE:America/Chicago
BEGIN:VTIMEZONE
TZID:America/Chicago
BEGIN:STANDARD
TZNAME:CST
DTSTART:20241103T020000
TZOFFSETFROM:-0500
TZOFFSETTO:-0600
RDATE:20251102T020000
END:STANDARD
BEGIN:DAYLIGHT
TZNAME:CDT
DTSTART:20240310T020000
TZOFFSETFROM:-0600
TZOFFSETTO:-0500
RDATE:20250309T020000
RDATE:20260308T020000
END:DAYLIGHT
END:VTIMEZONE
BEGIN:VEVENT
UID:2b496136-f01f-41b9-ae19-5cd83358a55c
DTSTAMP:20260423T014034Z
DESCRIPTION:LAW ENFORCEMENT/FIRST RESPONDERS\nGetting up safely if you Fall
 \n@ 10:00AM\n\nANNUAL HEALTH FAIR\nAnnual Health Fair\n@ 11:00AM
DTSTART;TZID=America/Chicago:20241205T100000
DTEND;TZID=America/Chicago:20241205T120000
LOCATION:219 Flagship Blvd\, Montgomery\, TX 77316 US
SUMMARY:The Heritage 55+: Law/First Responders\, Annual Health Fair
END:VEVENT
END:VCALENDAR
