BEGIN:VCALENDAR
VERSION:2.0
PRODID:-//empowercdc.org//NONSGML kigkonsult.se iCalcreator 2.30.10//
CALSCALE:GREGORIAN
METHOD:PUBLISH
UID:acd4daf6-25e4-4ae2-b78e-36a47e045c4f
X-WR-CALDESC:EXERCISE- LINE DANCE\n@10AM\n\nARTS & CRAFTS\nDIY SOCK SNOWMAN
 \nCP-Jeremy GPHP\n@11AM\n\nHEALTH & NUTRITION\nCP-Jeremy GPHP\n12PM\n\n*Re
 sident only event*
X-WR-RELCALID:c19b98674cfc217fe74c069e02c13661
X-WR-TIMEZONE:America/Chicago
BEGIN:VTIMEZONE
TZID:America/Chicago
BEGIN:STANDARD
TZNAME:CST
DTSTART:20241103T020000
TZOFFSETFROM:-0500
TZOFFSETTO:-0600
RDATE:20251102T020000
END:STANDARD
BEGIN:DAYLIGHT
TZNAME:CDT
DTSTART:20240310T020000
TZOFFSETFROM:-0600
TZOFFSETTO:-0500
RDATE:20250309T020000
RDATE:20260308T020000
END:DAYLIGHT
END:VTIMEZONE
BEGIN:VEVENT
UID:08409c18-a60f-4e73-bdc5-b979f9f2524a
DTSTAMP:20260423T013947Z
DESCRIPTION:EXERCISE- LINE DANCE\n@10AM\n\nARTS & CRAFTS\nDIY SOCK SNOWMAN
 \nCP-Jeremy GPHP\n@11AM\n\nHEALTH & NUTRITION\nCP-Jeremy GPHP\n12PM\n\n*Re
 sident only event*
DTSTART;TZID=America/Chicago:20241205T100000
DTEND;TZID=America/Chicago:20241205T130000
LOCATION:1717 FM359\, Richmond\, TX 77406 US
SUMMARY:Jones Creek: Exercise\, Arts & Crafts\, Health & Nutrition
END:VEVENT
END:VCALENDAR
