BEGIN:VCALENDAR
VERSION:2.0
PRODID:-//empowercdc.org//NONSGML kigkonsult.se iCalcreator 2.30.10//
CALSCALE:GREGORIAN
METHOD:PUBLISH
UID:046e226d-c8e5-4cf9-8006-1070c201e9fb
X-WR-CALDESC:Arts & Crafts- Empower\nCards for Mom\n@ 3:00 PM\n\nSOCIAL- Em
 power\nChristmas Social\n@ 4:00 PM\n\n*Resident only event*
X-WR-RELCALID:c60f847d9c51c17aacc2c9733a6dac76
X-WR-TIMEZONE:America/Chicago
BEGIN:VTIMEZONE
TZID:America/Chicago
BEGIN:STANDARD
TZNAME:CST
DTSTART:20241103T020000
TZOFFSETFROM:-0500
TZOFFSETTO:-0600
RDATE:20251102T020000
END:STANDARD
BEGIN:DAYLIGHT
TZNAME:CDT
DTSTART:20240310T020000
TZOFFSETFROM:-0600
TZOFFSETTO:-0500
RDATE:20250309T020000
RDATE:20260308T020000
END:DAYLIGHT
END:VTIMEZONE
BEGIN:VEVENT
UID:d8f65807-de07-4877-9177-54e9db391d73
DTSTAMP:20260423T012102Z
DESCRIPTION:Arts & Crafts- Empower\nCards for Mom\n@ 3:00 PM\n\nSOCIAL- Emp
 ower\nChristmas Social\n@ 4:00 PM\n\n*Resident only event*
DTSTART;TZID=America/Chicago:20241205T150000
DTEND;TZID=America/Chicago:20241205T170000
LOCATION:6725 Brittmoore Road\, Houston\, TX 77041 US
SUMMARY:Brittmoore: Christmas Social\, Arts & Crafts
END:VEVENT
END:VCALENDAR
